﻿BEGIN:VCALENDAR
VERSION:2.0
PRODID:-//REVAL Consulting SA - ECPv4.6.20.1//NONSGML v1.0//EN
CALSCALE:GREGORIAN
METHOD:PUBLISH
X-WR-CALNAME:REVAL Consulting SA
X-ORIGINAL-URL:http://www.reval.lu
X-WR-CALDESC:Events for REVAL Consulting SA
BEGIN:VEVENT
DTSTART;TZID=Europe/Paris:20211004T083000
DTEND;TZID=Europe/Paris:20211005T170000
DTSTAMP:20211007T191229
CREATED:20190604T152232Z
LAST-MODIFIED:20210720T154151Z
UID:2803-1633336200-1633453200@www.reval.lu
SUMMARY:Gestion des ressources humaines - Approfondissement : Module Gestion des compétences et des carrières
DESCRIPTION:\nObjectifs\n\nAu terme de cette formation\, le participant doit être capable de: \n\nmettre en place et gérer une fonction RH\ndéfinir les besoins en ressources humaines dans une approche prévisionnelle\nmettre en place et gérer un système d’appréciation des compétences et des carrières\ngérer le dialogue social en entreprise\ngérer le changement en entreprise\n\n\n\n\nProgramme\n\nGestion des compétences et des carrières \n\nLe développement et la gestion des compétences\nL’employabilité\nLes moments clés dans la carrière d’un collaborateur\nLes outils RH\n\n\n\n\nPublic cible\n\nResponsables et collaborateurs du service ressources humaines\, responsables et dirigeants PME/PMI \n\n\n\nPrérequis\n\nLa formation s’adresse à des personnes disposant d’une expérience professionnelle en ressources humaines et / ou ayant participé à la formation d’initiation à la gestion des ressources humaines. \n\n\n\nCertificat\n\nLe cours est clôturé par une épreuve écrite dont la réussite est attestée au travers d’un certificat délivré par la House of Training et cosigné par le Ministère de l’Education nationale\, de l’Enfance et de la Jeunesse. \nUne présence de 80% aux cours est requise pour être éligible à l’épreuve écrite. \n\n\n\nSupport de cours\n\nLe support de cours peut être téléchargé gratuitement\, cinq jours avant le début du cours\, via votre portail d’accès. Vous avez la possibilité de commander\, contre paiement\, une version imprimée du support de cours lors de votre inscription. Il vous sera alors délivré en début du cours. \n\n\n
URL:http://www.reval.lu/event/grh-approfondissement-mod-gestion-des-competences-et-des-carrieres-04-051021/
LOCATION:7\, rue Alcide de Gasperi\, Luxembourg\, L-1615\, Luxembourg
CATEGORIES:RH
ATTACH;FMTTYPE=image/jpeg:http://www.reval.lu/wp-content/uploads/2017/06/services-img-6.jpg
END:VEVENT
END:VCALENDAR