﻿BEGIN:VCALENDAR
VERSION:2.0
PRODID:-//REVAL Consulting SA - ECPv4.6.20.1//NONSGML v1.0//EN
CALSCALE:GREGORIAN
METHOD:PUBLISH
X-WR-CALNAME:REVAL Consulting SA
X-ORIGINAL-URL:http://www.reval.lu
X-WR-CALDESC:Events for REVAL Consulting SA
BEGIN:VEVENT
DTSTART;TZID=Europe/Paris:20211028T083000
DTEND;TZID=Europe/Paris:20211028T123000
DTSTAMP:20210722T212712
CREATED:20181210T113012Z
LAST-MODIFIED:20210720T154520Z
UID:2659-1635409800-1635424200@www.reval.lu
SUMMARY:Gestion des ressources humaines - Fondamentaux : Module Formation
DESCRIPTION:\nObjectifs\n\nLes responsabilités des ressources humaines sont aujourd’hui nombreuses et touchent à des domaines très divers.\nL’objectif de la formation est de donner un aperçu des sujets généralistes des ressources humaines et d’outiller les participants notamment quant à des domaines opérationnels de haute technicité tels que le recrutement\, les rémunérations\, le droit du travail et la formation.\nÀ l’issue de la formation\, les participants auront acquis une vue d’ensemble quant aux fonctions essentielles du domaine GRH et seront à même de gérer les tâches principales à un niveau opérationnel\, notamment pour l’administration du personnel\, le recrutement et la formation. \n\n\n\nProgramme\n\nFormation \n\nDéfinir une politique de formation\nPiloter la fonction formation\nConcevoir un dispositif de formation\nAdministrer la formation\nGestion des compétences et des carrières\n\n\n\n\nPublic cible\n\n\nToute personne souhaitant intégrer ou ayant récemment intégré une position en ressources humaines\nDirigeants d’entreprises cherchant à s’initier à la matière\n\n\n\n\nCertificat\n\nLe cours est clôturé par une épreuve écrite dont la réussite est attestée au travers d’un certificat délivré par la House of Training et cosigné par le Ministère de l’Education nationale\, de l’Enfance et de la Jeunesse. \nUne présence de 80% aux cours est requise pour être éligible à l’épreuve écrite. \n\n\n\nSupport de cours\n\nLe support de cours peut être téléchargé gratuitement la veille du début du cours via votre portail d’accès. \n\n\n
URL:http://www.reval.lu/event/grh-fondamentaux-formation-281021/
LOCATION:7\, rue Alcide de Gasperi\, Luxembourg\, L-1615\, Luxembourg
CATEGORIES:RH
ATTACH;FMTTYPE=image/jpeg:http://www.reval.lu/wp-content/uploads/2018/08/Fotolia_164623809_L.jpg
END:VEVENT
END:VCALENDAR