﻿BEGIN:VCALENDAR
VERSION:2.0
PRODID:-//REVAL Consulting SA - ECPv4.6.20.1//NONSGML v1.0//EN
CALSCALE:GREGORIAN
METHOD:PUBLISH
X-WR-CALNAME:REVAL Consulting SA
X-ORIGINAL-URL:http://www.reval.lu
X-WR-CALDESC:Events for REVAL Consulting SA
BEGIN:VEVENT
DTSTART;TZID=Europe/Paris:20210317T090000
DTEND;TZID=Europe/Paris:20210317T170000
DTSTAMP:20210423T024416
CREATED:20180828T103414Z
LAST-MODIFIED:20210218T121033Z
UID:2550-1615971600-1616000400@www.reval.lu
SUMMARY:L'essentiel sur le web et la communication : Internet - concepts et recherches - ECDL
DESCRIPTION:Public cible\nCe séminaire s’adresse aux personnes désirant s’initier à Internet et à la recherche d’information sur le web. \nObjectifs\nCe séminaire vise à connaître le vocabulaire et la syntaxe liés à l’environnement Internet. Il permet également de s’initier aux concepts d’Internet et aux outils de recherche et d’échange d’information. \nDescription\n\nQu’est-ce que Internet ?\n\nvocabulaire et syntaxe utilisés sur internet ;\nles différents outils de navigation sur internet ;\ninternet et sécurité (cryptage / certificat / restrictions / téléchargements).\n\n\nConnaître les différentes activités liées à Internet\n\nservice Serveur WWW service serveur FTP ;\nmoteurs de recherche ;\nmessagerie (e-mail) ;\nintranet.\n\n\nLa navigation :\n\ninterface\, barre de navigation\, barre d’adresse\, l’affichage des images ;\nnaviguer : déplacement d’une page vers une autre – interrompre le chargement d’une page\, recharger une page – les popups / les cookies ;\ncréer un signet ou un favori ;\ndéfinir une page d’accueil / imprimer la page en cours ;\nremplir un formulaire ;\nles outils de traduction.\n\n\nRecherche dans le Word Wide Web :\n\nprocédures et méthodologie de recherche d’information (historique / mots clés) ;\ntéléchargement d’informations ;\nrécupération de fichiers de tout format ;\npertinence du contenu recherché.\n\n\nConcepts de communauté en ligne :\n\nchat / forum ;\nréseaux sociaux ;\npartage d’informations en ligne.\n\n\nLa messagerie instantanée :\n\nSMS / MMS ;\nVOIX IP ;\nbest practices sur la communication écrite.\n\n\n\nNotes\nCe séminaire est construit de façon à faciliter l’accès à la certification ECDL – Base. \n
URL:http://www.reval.lu/event/lessentiel-sur-le-web-et-la-communication-internet-concepts-et-recherches-ecdl-170321/
LOCATION:2-4 Rue Pierre Hentges\, Luxembourg\, L-1726\, Luxembourg
CATEGORIES:Informatique
ATTACH;FMTTYPE=image/jpeg:http://www.reval.lu/wp-content/uploads/2017/07/post-6.jpg
END:VEVENT
END:VCALENDAR