﻿BEGIN:VCALENDAR
VERSION:2.0
PRODID:-//REVAL Consulting SA - ECPv4.6.20.1//NONSGML v1.0//EN
CALSCALE:GREGORIAN
METHOD:PUBLISH
X-WR-CALNAME:REVAL Consulting SA
X-ORIGINAL-URL:http://www.reval.lu
X-WR-CALDESC:Events for REVAL Consulting SA
BEGIN:VEVENT
DTSTART;TZID=Europe/Paris:20211110T090000
DTEND;TZID=Europe/Paris:20211110T170000
DTSTAMP:20210722T211317
CREATED:20181210T103604Z
LAST-MODIFIED:20210720T154916Z
UID:2640-1636534800-1636563600@www.reval.lu
SUMMARY:MS Word - Mise en forme élaborée et mailings - ECDL
DESCRIPTION:Public cible\nCe séminaire s’adresse aux personnes ayant à créer des modèles\, styles\, des documents de type journal et à réaliser des mailings. \nObjectifs\nCe séminaire vise à être capable de créer et modifier un modèle de document et d’automatiser la saisie de formulaires. Vous serez capable d’effectuer un envoi important de lettres et d’e-mails. \nDescription\n\nLes modèles :\n\nutilisation de la bibliothèque de modèles existante ;\nconcevoir son propre modèle et savoir le modifier ;\nappliquer un modèle à un document.\n\n\nLes styles :\n\nutilisation des styles standards ;\ncréation et modification de styles personnalisés (de texte\, de paragraphe).\n\n\nLe multicolonnage :\n\ncréation et gestion de colonnes dans un document\, sur une page ;\ncésure des mots.\n\n\nLes objets :\n\ndéfinition de “l’objet” dans Word ;\ntypes d’habillage ;\nintégration d’objets existants (tableaux\, images et graphiques Excel).\n\n\nConcevoir un document de plusieurs pages :\n\ngestion des coupures de pages ;\nen-tête et bas de page ;\nla numérotation des pages.\n\n\nLe mailing courrier :\n\nconstitution d’un fichier de données ;\nconstitution d’un document type avec champs variables ;\nfusion et sélections ;\ncontrôles.\n\n\nLe e-mailing :\n\nconstitution d’un document type ;\nfusion et sélections.\n\n\nLe mailing étiquette :\n\nconstitution d’une planche d’étiquettes type : prise en compte du type d’imprimante et du type d’étiquette ;\nfusion et sélections.\n\n\nImpression sur une enveloppe :\n\nimpression d’adresses sur enveloppes.\n\n\n\nNotes\nCe séminaire est construit de façon à faciliter l’accès à la certification ECDL – Base. \n
URL:http://www.reval.lu/event/ms-word-mise-en-forme-elaboree-et-mailings-ecdl-101121/
LOCATION:2-4 Rue Pierre Hentges\, Luxembourg\, L-1726\, Luxembourg
CATEGORIES:Bureautique,Informatique
ATTACH;FMTTYPE=image/jpeg:http://www.reval.lu/wp-content/uploads/2018/07/Fotolia_3031141_XS.jpg
END:VEVENT
END:VCALENDAR