﻿BEGIN:VCALENDAR
VERSION:2.0
PRODID:-//REVAL Consulting SA - ECPv4.6.20.1//NONSGML v1.0//EN
CALSCALE:GREGORIAN
METHOD:PUBLISH
X-WR-CALNAME:REVAL Consulting SA
X-ORIGINAL-URL:http://www.reval.lu
X-WR-CALDESC:Events for REVAL Consulting SA
BEGIN:VEVENT
DTSTART;TZID=Europe/Paris:20211001T083000
DTEND;TZID=Europe/Paris:20211001T170000
DTSTAMP:20211007T185729
CREATED:20191213T152640Z
LAST-MODIFIED:20210720T153729Z
UID:3131-1633077000-1633107600@www.reval.lu
SUMMARY:Rédiger sans fautes d'orthographe pour gagner en crédibilité
DESCRIPTION:\nObjectifs\n\nAu terme de cette formation\, le participant sera capable de : \n\nrevoir les règles fondamentales de la grammaire\, de l’orthographe et de la conjugaison\n\n\n\n\nProgramme\n\n\nRappel des principales règles d’orthographe et de grammaire\n\nLe pluriel des noms composés\nLa ponctuation\nL’accord des adjectifs qualificatifs\nLes participes passés\nQuel temps pour quel type d’écrit\n\n\nÉcrire vite\, écrire bien\n\nLa construction des phrases\nComment privilégier la simplicité pour être compris\n\n\nPratiquer pour mémoriser\n\nS’entraîner à appliquer les règles\n\n\nQuelles ressources utiliser pour s’autocontrôler\n\nLes outils d’autocontrôle\nCorriger son orthographe\nTravailler son orthographe\n\n\n\n\n\n\nPublic cible\n\nCollaborateurs \n\n\n\nExamen\n\nAucun examen n’est prévu pour cette formation. \n\n\n\nCertificat\n\nÀ l’issue de la formation\, les participants recevront une attestation de présence délivrée par la House of Training. \n\n\n\nSupport de cours\n\nLe support de cours peut être téléchargé gratuitement la veille du début du cours via votre portail d’accès. \n\n\n
URL:http://www.reval.lu/event/rediger-sans-fautes-dorthographe-pour-gagner-en-credibilite-011021/
LOCATION:7\, rue Alcide de Gasperi\, Luxembourg\, L-1615\, Luxembourg
CATEGORIES:Développement personnel
ATTACH;FMTTYPE=image/jpeg:http://www.reval.lu/wp-content/uploads/2019/12/pexels-pixabay-261599-scaled.jpg
END:VEVENT
END:VCALENDAR