﻿BEGIN:VCALENDAR
VERSION:2.0
PRODID:-//REVAL Consulting SA - ECPv4.6.20.1//NONSGML v1.0//EN
CALSCALE:GREGORIAN
METHOD:PUBLISH
X-WR-CALNAME:REVAL Consulting SA
X-ORIGINAL-URL:http://www.reval.lu
X-WR-CALDESC:Events for REVAL Consulting SA
BEGIN:VEVENT
DTSTART;TZID=Europe/Paris:20211004T083000
DTEND;TZID=Europe/Paris:20211004T170000
DTSTAMP:20211007T190348
CREATED:20180727T135555Z
LAST-MODIFIED:20210720T154026Z
UID:2192-1633336200-1633366800@www.reval.lu
SUMMARY:Réussir ses réunions en présentiel et en distanciel
DESCRIPTION:\nObjectifs\n\nAu terme de cette formation\, le participant doit être capable de : \n\nchoisir le meilleur outil d’animation de réunion\ncomprendre les mécanismes de la dynamique de groupe en présentiel et en virtuel\nêtre capable de préparer et conduire une réunion efficacement en favorisant la participation et l’implication de chacun.\n\n\n\n\nProgramme\n\nLes points clés d’une réunion en présentiel ou en virtuel : choisir le bon format \n• Avantages et inconvénients \n• Comprendre la dynamique de groupe \n• Définir l’objectif de chaque réunion \n• Choisir le format en fonction de l’objectif \n• Motiver les participants tout au long de la réunion \n• Conclure\, valider et formaliser les points clés de la réunion \n• Les principes d’efficacité pour être productif en réunion : \no Structurer la réunion \no Répartir les rôles pour être efficace \no Faciliter les échanges et la créativité \nLes styles d’animation adaptés au format choisi \n• Adopter la « bonne posture » de l’animateur : faire preuve de leadership \n• Traiter les objections et gérer les freins \n• Favoriser la prise de décision \n• Transformer les décisions en action \n• Les tips en présentiel \no Repérer les phénomènes de groupes pour mieux les utiliser \no Cadrer les digressions\, les bavardages \n• Les tips en distanciel \no Dynamiser les réunions « sans caméra » \no Gérer les réunions comodales \no Favoriser le collaboratif \n\nOutils pédagogiques \n• Exposés \n• Travaux de groupe \n• Jeux de rôles et mises en situation \n\n\n\nPublic cible\n\nToute personne animant et participant à des réunions ou groupes de travail et qui veut les rendre plus efficaces \n\n\n\nCertificat\n\nÀ l’issue de la formation\, les participants recevront un certificat de participation délivré par la House of Training. \n\n\n\nSupport de cours\n\nLe support de cours peut être téléchargé gratuitement la veille du début du cours via votre portail d’accès. \n\n\n
URL:http://www.reval.lu/event/reussir-ses-reunions-en-presentiel-et-en-distanciel-041021/
LOCATION:7\, rue Alcide de Gasperi\, Luxembourg\, L-1615\, Luxembourg
CATEGORIES:Communication,Développement personnel
ATTACH;FMTTYPE=image/jpeg:http://www.reval.lu/wp-content/uploads/2017/07/post-3.jpg
END:VEVENT
END:VCALENDAR